BEGIN:VCALENDAR
VERSION:2.0
PRODID:-//Antonio &amp; Vittoria Italian Tavern - ECPv6.15.10//NONSGML v1.0//EN
CALSCALE:GREGORIAN
METHOD:PUBLISH
X-WR-CALNAME:Antonio &amp; Vittoria Italian Tavern
X-ORIGINAL-URL:https://avitaliantavern.com
X-WR-CALDESC:Events for Antonio &amp; Vittoria Italian Tavern
REFRESH-INTERVAL;VALUE=DURATION:PT1H
X-Robots-Tag:noindex
X-PUBLISHED-TTL:PT1H
BEGIN:VTIMEZONE
TZID:America/New_York
BEGIN:DAYLIGHT
TZOFFSETFROM:-0500
TZOFFSETTO:-0400
TZNAME:EDT
DTSTART:20240310T070000
END:DAYLIGHT
BEGIN:STANDARD
TZOFFSETFROM:-0400
TZOFFSETTO:-0500
TZNAME:EST
DTSTART:20241103T060000
END:STANDARD
BEGIN:DAYLIGHT
TZOFFSETFROM:-0500
TZOFFSETTO:-0400
TZNAME:EDT
DTSTART:20250309T070000
END:DAYLIGHT
BEGIN:STANDARD
TZOFFSETFROM:-0400
TZOFFSETTO:-0500
TZNAME:EST
DTSTART:20251102T060000
END:STANDARD
BEGIN:DAYLIGHT
TZOFFSETFROM:-0500
TZOFFSETTO:-0400
TZNAME:EDT
DTSTART:20260308T070000
END:DAYLIGHT
BEGIN:STANDARD
TZOFFSETFROM:-0400
TZOFFSETTO:-0500
TZNAME:EST
DTSTART:20261101T060000
END:STANDARD
END:VTIMEZONE
BEGIN:VEVENT
DTSTART;TZID=America/New_York:20251224T130000
DTEND;TZID=America/New_York:20251224T183000
DTSTAMP:20260424T210215
CREATED:20251130T145302Z
LAST-MODIFIED:20251214T182834Z
UID:429-1766581200-1766601000@avitaliantavern.com
SUMMARY:Feast of the Seven Fishes
DESCRIPTION:TWO SPOTS AVAILABLE 1:00 PM TO 3:30 PM 4:00 PM TO 6:30 PM \nMerry Christmas \nMenu \nAPPETIZERS \nIL FRITTO FRIED CALAMARI ~ SEAWEED ZEPPOLE~ MIXED OLIVES \nAL FORNO CRAB CAKE ~ BAKED CLAMS ~ CRISPY POLENTA PARM \nSEAFOOD PASTA \nSPAGHETTI AL CARTOCCIO SPAGHETTI TOSSED WITH CLAMS\, MUSSLES\, SHRIMPS\, CALAMARI IN RED CHERRY TOMATO SAUCE SERVED IN FOIL ON FIRE \nRAVIOLI CON ARAGOSTA HOMEMADE LOBSTER RAVIOLI TOSSED IN A CREAMY PINK LOBSTER SAUCE WITH SELECTED BODY MEAT \nSEAFOOD MAIN COURSES \nBRANZINO ALL`ITALIANA CHILEAN WHOLE SEABASS DEBONED BAKED AND TOPPED WITH CHERRY TOMATOES AND SPINACH SIDED WITH BAKED POTATOES \nBACCALA FRITTO CRISPY BACCALA COD FILLET TOPPED WITH LUCIANA SAUCE AND SIDED WITH BROCCOLI IN GARLIC\,OIL AND PARMESAN CHEESE \nDESSERTS \nCHOICE OF CANNOLI OR ITALIAN CHEESECAKE \n$ 119.95 PER PERSON PLUS TAX & GRATUITY \nRESERVATION ONLY At https://avitaliantavern.com/product/reservation-deposit-feast-of-the-seven-fishes/
URL:https://avitaliantavern.com/event/feast-of-the-seven-fishes/
CATEGORIES:Holydays
END:VEVENT
END:VCALENDAR