BEGIN:VCALENDAR
VERSION:2.0
PRODID:-//Antonio &amp; Vittoria Italian Tavern - ECPv6.15.10//NONSGML v1.0//EN
CALSCALE:GREGORIAN
METHOD:PUBLISH
X-ORIGINAL-URL:https://avitaliantavern.com
X-WR-CALDESC:Events for Antonio &amp; Vittoria Italian Tavern
REFRESH-INTERVAL;VALUE=DURATION:PT1H
X-Robots-Tag:noindex
X-PUBLISHED-TTL:PT1H
BEGIN:VTIMEZONE
TZID:America/New_York
BEGIN:DAYLIGHT
TZOFFSETFROM:-0500
TZOFFSETTO:-0400
TZNAME:EDT
DTSTART:20250309T070000
END:DAYLIGHT
BEGIN:STANDARD
TZOFFSETFROM:-0400
TZOFFSETTO:-0500
TZNAME:EST
DTSTART:20251102T060000
END:STANDARD
BEGIN:DAYLIGHT
TZOFFSETFROM:-0500
TZOFFSETTO:-0400
TZNAME:EDT
DTSTART:20260308T070000
END:DAYLIGHT
BEGIN:STANDARD
TZOFFSETFROM:-0400
TZOFFSETTO:-0500
TZNAME:EST
DTSTART:20261101T060000
END:STANDARD
BEGIN:DAYLIGHT
TZOFFSETFROM:-0500
TZOFFSETTO:-0400
TZNAME:EDT
DTSTART:20270314T070000
END:DAYLIGHT
BEGIN:STANDARD
TZOFFSETFROM:-0400
TZOFFSETTO:-0500
TZNAME:EST
DTSTART:20271107T060000
END:STANDARD
END:VTIMEZONE
BEGIN:VEVENT
DTSTART;TZID=America/New_York:20260314T103000
DTEND;TZID=America/New_York:20260314T133000
DTSTAMP:20260425T072836
CREATED:20260221T172729Z
LAST-MODIFIED:20260221T182030Z
UID:515-1773484200-1773495000@avitaliantavern.com
SUMMARY:Neapolitan Pizza Class
DESCRIPTION:Come enjoy with us the first edition of our Authentic Neapolitan Brick Oven Pizza Class!We’ll show you how we prepare high-hydration dough\, use fresh mozzarella\, and share all the secrets behind a truly authentic pizza. \nYou’ll have the chance to make your own pizza\, and at the end we’ll enjoy together:• A fresh Caprese mozzarella appetizer• A classic Margherita pizza• Tiramisu we’ll create together \nDon’t miss this experience — reserve your spot online! \nCall us at: 321.9782242 \n or filled out the form below:\nPlease enable JavaScript in your browser to complete this form.Please enable JavaScript in your browser to complete this form.Name and Last name *FirstLast		\n			name Name and\n			\n		\n		Telephone *Email *Submit
URL:https://avitaliantavern.com/event/neapolitan-pizza-class/
LOCATION:AV Italian Tavern\, 586 A1A Jimmy Buffett Mem Hwy\, Satellite Beach\, FL\, 32937\, United States
ATTACH;FMTTYPE=image/jpeg:https://avitaliantavern.com/wp-content/uploads/2026/02/PIZZA-CLASS-scaled.jpg
END:VEVENT
BEGIN:VEVENT
DTSTART;TZID=America/New_York:20260319T100000
DTEND;TZID=America/New_York:20260319T160000
DTSTAMP:20260425T072836
CREATED:20260306T174614Z
LAST-MODIFIED:20260306T174614Z
UID:543-1773914400-1773936000@avitaliantavern.com
SUMMARY:Saint Joseph Zeppole
DESCRIPTION:🇮🇹✨ **St. Joseph’s Zeppole – Italian Tradition!** ✨🇮🇹 \nDear friends\, \nAs every year\, following our beautiful **Italian tradition**\, we are ready to bake **hundreds of fresh St. Joseph’s Zeppole**! 👨‍🍳🍩 \nOur zeppole are made **fresh daily** using **healthy and carefully selected ingredients**\, just like in Italy. \n🎉 **Reserve your Zeppole for St. Joseph’s Day** and celebrate this special tradition with your whole family! \n📍 Come visit us at **Bella Italia**\n2447 N Wickham Rd\, Unit 136 \n📞 **To reserve your Zeppole call:** 321-525-5380 \nWe look forward to celebrating this sweet Italian tradition with you! 🇮🇹❤️
URL:https://avitaliantavern.com/event/saint-joseph-zeppole/
ATTACH;FMTTYPE=image/jpeg:https://avitaliantavern.com/wp-content/uploads/2026/03/zeppole-san-giuseppe-2026-scaled.jpg
END:VEVENT
END:VCALENDAR