BEGIN:VCALENDAR
VERSION:2.0
PRODID:-//Antonio &amp; Vittoria Italian Tavern - ECPv6.15.10//NONSGML v1.0//EN
CALSCALE:GREGORIAN
METHOD:PUBLISH
X-WR-CALNAME:Antonio &amp; Vittoria Italian Tavern
X-ORIGINAL-URL:https://avitaliantavern.com
X-WR-CALDESC:Events for Antonio &amp; Vittoria Italian Tavern
REFRESH-INTERVAL;VALUE=DURATION:PT1H
X-Robots-Tag:noindex
X-PUBLISHED-TTL:PT1H
BEGIN:VTIMEZONE
TZID:America/Halifax
BEGIN:DAYLIGHT
TZOFFSETFROM:-0400
TZOFFSETTO:-0300
TZNAME:ADT
DTSTART:20240310T060000
END:DAYLIGHT
BEGIN:STANDARD
TZOFFSETFROM:-0300
TZOFFSETTO:-0400
TZNAME:AST
DTSTART:20241103T050000
END:STANDARD
BEGIN:DAYLIGHT
TZOFFSETFROM:-0400
TZOFFSETTO:-0300
TZNAME:ADT
DTSTART:20250309T060000
END:DAYLIGHT
BEGIN:STANDARD
TZOFFSETFROM:-0300
TZOFFSETTO:-0400
TZNAME:AST
DTSTART:20251102T050000
END:STANDARD
BEGIN:DAYLIGHT
TZOFFSETFROM:-0400
TZOFFSETTO:-0300
TZNAME:ADT
DTSTART:20260308T060000
END:DAYLIGHT
BEGIN:STANDARD
TZOFFSETFROM:-0300
TZOFFSETTO:-0400
TZNAME:AST
DTSTART:20261101T050000
END:STANDARD
END:VTIMEZONE
BEGIN:VEVENT
DTSTART;TZID=America/Halifax:20251127T130000
DTEND;TZID=America/Halifax:20251127T190000
DTSTAMP:20260424T210214
CREATED:20251027T212047Z
LAST-MODIFIED:20251125T165823Z
UID:398-1764248400-1764270000@avitaliantavern.com
SUMMARY:Thanksgiving
DESCRIPTION:COME AND JOIN WITH US \nTHANKSGIVINGTraditional Dinner \n$49.95 per person + Tax & Gratuity \nThursday\, November 27th\, 2025from 1PM to 7PM \nMENU: \n\n\nTHANKSGIVING APPETIZER \n\n\nPUMPKIN & HAM SOUP OR SALAD \n\n\nROASTED TURKEY & BROCCOLI \n\n\nROASTED HAM & POTATOES \n\n\nITALIAN CHEESECAKE or CANNOLI
URL:https://avitaliantavern.com/event/thanksgiving/
LOCATION:AV Italian Tavern\, 586 A1A Jimmy Buffett Mem Hwy\, Satellite Beach\, FL\, 32937\, United States
CATEGORIES:Holydays
END:VEVENT
END:VCALENDAR