BEGIN:VCALENDAR
VERSION:2.0
PRODID:-//Antonio &amp; Vittoria Italian Tavern - ECPv6.15.10//NONSGML v1.0//EN
CALSCALE:GREGORIAN
METHOD:PUBLISH
X-ORIGINAL-URL:https://avitaliantavern.com
X-WR-CALDESC:Events for Antonio &amp; Vittoria Italian Tavern
REFRESH-INTERVAL;VALUE=DURATION:PT1H
X-Robots-Tag:noindex
X-PUBLISHED-TTL:PT1H
BEGIN:VTIMEZONE
TZID:America/New_York
BEGIN:DAYLIGHT
TZOFFSETFROM:-0500
TZOFFSETTO:-0400
TZNAME:EDT
DTSTART:20250309T070000
END:DAYLIGHT
BEGIN:STANDARD
TZOFFSETFROM:-0400
TZOFFSETTO:-0500
TZNAME:EST
DTSTART:20251102T060000
END:STANDARD
BEGIN:DAYLIGHT
TZOFFSETFROM:-0500
TZOFFSETTO:-0400
TZNAME:EDT
DTSTART:20260308T070000
END:DAYLIGHT
BEGIN:STANDARD
TZOFFSETFROM:-0400
TZOFFSETTO:-0500
TZNAME:EST
DTSTART:20261101T060000
END:STANDARD
BEGIN:DAYLIGHT
TZOFFSETFROM:-0500
TZOFFSETTO:-0400
TZNAME:EDT
DTSTART:20270314T070000
END:DAYLIGHT
BEGIN:STANDARD
TZOFFSETFROM:-0400
TZOFFSETTO:-0500
TZNAME:EST
DTSTART:20271107T060000
END:STANDARD
END:VTIMEZONE
BEGIN:VEVENT
DTSTART;TZID=America/New_York:20260110T103000
DTEND;TZID=America/New_York:20260110T140000
DTSTAMP:20260424T172904
CREATED:20251214T233622Z
LAST-MODIFIED:20251214T233622Z
UID:472-1768041000-1768053600@avitaliantavern.com
SUMMARY:January 2026 Cooking Class
DESCRIPTION:🎉🇮🇹 NEW YEAR\, NEW ITALIAN COOKING CLASS! 🇮🇹🎉 \n👩‍🍳✨ Start the New Year by cooking\, learning\, and celebrating true Italian traditions!Join our exclusive Italian Cooking Class\, where we’ll prepare the most authentic and traditional Italian dishes\, just like nonna used to make ❤️ \n🍞 BIG NEWS!For the first time\, we’ll also show you how to make real Italian bread using our beloved imported Italian flour 🇮🇹✨ \n📅 Reservation Only Event⏳ Limited spots available👉 Follow the link to secure your reservation now! \nJanuary 2026 Cooking Class \n \n💛 Cook together. Share traditions. Taste Italy.
URL:https://avitaliantavern.com/event/january-2026-cooking-class/
LOCATION:AV Italian Tavern\, 586 A1A Jimmy Buffett Mem Hwy\, Satellite Beach\, FL\, 32937\, United States
ATTACH;FMTTYPE=image/jpeg:https://avitaliantavern.com/wp-content/uploads/2025/12/January-2026-scaled.jpg
END:VEVENT
END:VCALENDAR